BEGIN:VCALENDAR
VERSION:2.0
PRODID:-//ChamberMaster//Event Calendar 2.0//EN
METHOD:PUBLISH
X-PUBLISHED-TTL:P3D
REFRESH-INTERVAL:P3D
CALSCALE:GREGORIAN
BEGIN:VEVENT
DTSTART:20201001T230000Z
DTEND:20201002T000000Z
X-MICROSOFT-CDO-ALLDAYEVENT:FALSE
SUMMARY:South Lake Business Awards
DESCRIPTION:The South Lake Business Awards is the premier business awards program in the South Lake area. This year the South Lake Chamber of Commerce is partnering with southlake.tv to present the following awards:\n\n\n	Our annual Best Of South Lake awards\n	Citizen of the Year. This award honors a South Lake Resident who has displayed extraordinary dedication to the community.\n	Oakley Seaver Special Service Award. This award honors a nonprofit business\, club\, organization\, educational institution or healthcare facility that has contributed significantly to the community and created a lasting impact or benefit.\n	Heritage Award. This award recognizes a business or organization that has shown continued contributions to the business community. The nominee must have been active in the community for 25 years or more.
X-ALT-DESC;FMTTYPE=text/html:<p>The South Lake Business Awards&nbsp\;is the premier business awards program in the South Lake area. This year the South Lake Chamber of Commerce is partnering with southlake.tv to present the following awards:</p>\n\n<ul style="margin-left: 80px\;">\n	<li>Our annual Best Of South Lake awards</li>\n	<li><u>Citizen of the Year</u>. This award honors a South Lake Resident who has displayed extraordinary dedication to the community.</li>\n	<li><u>Oakley Seaver Special Service Award</u>. This award honors a nonprofit business\, club\, organization\, educational institution or healthcare facility that has contributed significantly to the community and created a lasting impact or benefit.</li>\n	<li><u>Heritage Award.</u> This award recognizes a business&nbsp\;or organization&nbsp\;that has&nbsp\;shown continued contributions to the business community. The nominee must have been active in the community for 25 years or more.&nbsp\;</li>\n</ul>\n
LOCATION:southlake.tv
UID:e.3152.3540
SEQUENCE:3
DTSTAMP:20260420T222554Z
URL:https://members.southlakechamber-fl.com/events/details/south-lake-business-awards-3540
END:VEVENT

END:VCALENDAR
