BEGIN:VCALENDAR
VERSION:2.0
PRODID:-//ChamberMaster//Event Calendar 2.0//EN
METHOD:PUBLISH
X-PUBLISHED-TTL:P3D
REFRESH-INTERVAL:P3D
CALSCALE:GREGORIAN
BEGIN:VEVENT
DTSTART:20270421T120000Z
DTEND:20270421T130000Z
X-MICROSOFT-CDO-ALLDAYEVENT:FALSE
SUMMARY:Solutions Networking
DESCRIPTION:
X-ALT-DESC;FMTTYPE=text/html:
LOCATION:Cheeser's Palace 707 W. Montrose St. Clermont\, FL 34711
UID:e.3152.5946
SEQUENCE:3
DTSTAMP:20260420T083202Z
URL:https://members.southlakechamber-fl.com/events/details/solutions-networking-04-21-2027-5946
END:VEVENT

END:VCALENDAR
