BEGIN:VCALENDAR
VERSION:2.0
PRODID:-//ChamberMaster//Event Calendar 2.0//EN
METHOD:PUBLISH
X-PUBLISHED-TTL:P3D
REFRESH-INTERVAL:P3D
CALSCALE:GREGORIAN
BEGIN:VEVENT
DTSTART:20260428T203000Z
DTEND:20260428T210000Z
X-MICROSOFT-CDO-ALLDAYEVENT:FALSE
SUMMARY:Ribbon Cutting - Radiant Rheumatology LLC
DESCRIPTION:Ribbon Cutting - Radiant Rheumatology LLC
X-ALT-DESC;FMTTYPE=text/html:Ribbon Cutting - Radiant Rheumatology LLC
LOCATION:2105 Hartwood Marsh Rd\, Ste 3 Clermont\, FL 34711
UID:e.3152.6567
SEQUENCE:3
DTSTAMP:20260423T085538Z
URL:https://members.southlakechamber-fl.com/events/details/ribbon-cutting-radiant-rheumatology-llc-6567
END:VEVENT

END:VCALENDAR
