BEGIN:VCALENDAR
VERSION:2.0
PRODID:-//ChamberMaster//Event Calendar 2.0//EN
METHOD:PUBLISH
X-PUBLISHED-TTL:P3D
REFRESH-INTERVAL:P3D
CALSCALE:GREGORIAN
BEGIN:VEVENT
DTSTART:20260522T160000Z
DTEND:20260522T160000Z
X-MICROSOFT-CDO-ALLDAYEVENT:FALSE
SUMMARY:Ribbon Cutting - Justice Electronic Training Services\, Inc
DESCRIPTION:Ribbon Cutting - Justice Electronic Training Services\, Inc
X-ALT-DESC;FMTTYPE=text/html:Ribbon Cutting - Justice Electronic Training Services\, Inc
LOCATION:885 E Anderson Road\; Suites- 100/200 Groveland \, FL 34736
UID:e.3152.6570
SEQUENCE:3
DTSTAMP:20260419T133003Z
URL:https://members.southlakechamber-fl.com/events/details/ribbon-cutting-justice-electronic-training-services-inc-6570
END:VEVENT

END:VCALENDAR
