BEGIN:VCALENDAR
VERSION:2.0
PRODID:-//ChamberMaster//Event Calendar 2.0//EN
METHOD:PUBLISH
X-PUBLISHED-TTL:P3D
REFRESH-INTERVAL:P3D
CALSCALE:GREGORIAN
BEGIN:VEVENT
DTSTART:20230613T210000Z
DTEND:20230613T230000Z
X-MICROSOFT-CDO-ALLDAYEVENT:FALSE
SUMMARY:Let's Do Dinner
DESCRIPTION:Come meet Chamber Staff and enjoy dinner at Root & Branch Bistro Bar. Click the register link below and select your entree from our Prix-fixe menu.
X-ALT-DESC;FMTTYPE=text/html:<span style="color: rgb(85\, 85\, 85)\; font-family: &quot\;Open Sans&quot\;\, sans-serif\; font-size: 16px\; white-space: pre-wrap\;">Come meet Chamber Staff and enjoy dinner at Root &amp\; Branch Bistro Bar. Click the register link below and select your entree from our Prix-fixe menu.</span>
LOCATION:Root & Branch Bistro & Bar 1200 Oakley Seaver Dr. Clermont\, FL 34711
UID:e.3152.4505
SEQUENCE:3
DTSTAMP:20260420T120831Z
URL:https://members.southlakechamber-fl.com/events/details/let-s-do-dinner-06-13-2023-4505
END:VEVENT

END:VCALENDAR
