BEGIN:VCALENDAR
VERSION:2.0
PRODID:-//ChamberMaster//Event Calendar 2.0//EN
METHOD:PUBLISH
X-PUBLISHED-TTL:P3D
REFRESH-INTERVAL:P3D
CALSCALE:GREGORIAN
BEGIN:VEVENT
DTSTART:20260727T210000Z
DTEND:20260727T233000Z
X-MICROSOFT-CDO-ALLDAYEVENT:FALSE
SUMMARY:Lake County Hob Nob 2026
DESCRIPTION:The South Lake Chamber of Commerce is proud to present the 2026 Lake County Hob Nob! This year's Hob Nob will be held at the Clermont Arts and Recreation Center on Monday\, July 27th\, 2026\, from 5:00 p.m. to 7:30 p.m.\n\n \n\nThe Chamber welcomes residents to meet candidates running for city\, county\, state\, and federal seats. Residents will have the opportunity to have dialogue while learning about individual campaigns and their initiatives.\n\n \n\nThis free event is open to the public and includes food catered by Lake Catherine Catering & Events
X-ALT-DESC;FMTTYPE=text/html:<div background-color:="" class="kvgmc6g5 cxmmr5t8 oygrvhab hcukyx3x c1et5uql" color:="" font-size:="" segoe="" style="overflow-wrap: break-word\; margin: 0px\; font-family: " ui="">\n<div background-color:="" class="kvgmc6g5 cxmmr5t8 oygrvhab hcukyx3x c1et5uql" color:="" font-size:="" segoe="" style="overflow-wrap: break-word\; margin: 0px\; font-family: " ui="">The South Lake Chamber of Commerce is proud to present the 2026&nbsp\;Lake County Hob Nob! This year&rsquo\;s Hob Nob will be held at the Clermont Arts and Recreation Center on Monday\, July 27th\, 2026\, from 5:00 p.m. to 7:30&nbsp\;p.m.<br />\n&nbsp\;</div>\n\n<div background-color:="" class="cxmmr5t8 oygrvhab hcukyx3x c1et5uql o9v6fnle" color:="" font-size:="" segoe="" style="overflow-wrap: break-word\; margin: 0.5em 0px 0px\; font-family: " ui="">The Chamber welcomes residents to meet candidates running for city\, county\, state\, and federal seats. Residents will have the opportunity to have dialogue while learning about individual campaigns and their initiatives.<br />\n&nbsp\;</div>\n\n<div background-color:="" class="cxmmr5t8 oygrvhab hcukyx3x c1et5uql o9v6fnle" color:="" font-size:="" segoe="" style="overflow-wrap: break-word\; margin: 0.5em 0px 0px\; font-family: " ui="">This free event is open to the public and includes food catered by Lake Catherine Catering &amp\; Events</div>\n</div>\n
LOCATION:Clermont Performing Arts Center 3700 US-27 South Clermont\, FL 34711
UID:e.3152.5619
SEQUENCE:3
DTSTAMP:20260419T184838Z
URL:https://members.southlakechamber-fl.com/events/details/lake-county-hob-nob-2026-5619
END:VEVENT

END:VCALENDAR
