BEGIN:VCALENDAR
VERSION:2.0
PRODID:-//ChamberMaster//Event Calendar 2.0//EN
METHOD:PUBLISH
X-PUBLISHED-TTL:P3D
REFRESH-INTERVAL:P3D
CALSCALE:GREGORIAN
BEGIN:VEVENT
DTSTART:20221209T121500Z
DTEND:20221209T133000Z
X-MICROSOFT-CDO-ALLDAYEVENT:FALSE
SUMMARY:First Friday Chamber Connection
DESCRIPTION:Participate in this structured networking event where you can exchange business cards with dozens of your business peers.
X-ALT-DESC;FMTTYPE=text/html:<p>Participate in this structured networking event where you can exchange business cards with dozens of your business peers.<br />\n<br />\n&nbsp\;</p>\n
LOCATION:
UID:e.3152.2915
SEQUENCE:3
DTSTAMP:20260421T205115Z
URL:https://members.southlakechamber-fl.com/events/details/first-friday-chamber-connection-12-02-2022-2915
END:VEVENT

END:VCALENDAR
