BEGIN:VCALENDAR
VERSION:2.0
PRODID:-//ChamberMaster//Event Calendar 2.0//EN
METHOD:PUBLISH
X-PUBLISHED-TTL:P3D
REFRESH-INTERVAL:P3D
CALSCALE:GREGORIAN
BEGIN:VEVENT
DTSTART:20221001T113000Z
DTEND:20221001T140000Z
X-MICROSOFT-CDO-ALLDAYEVENT:FALSE
SUMMARY:End of Summer Splash 5k
DESCRIPTION:Celebrate the end of summer with this beautiful 5K in picturesque Venetian Gardens on the Southern Shore of Lake Harris. This is a kick-off event for the Leesburg Partnership's End of Summer Splash Festival.
X-ALT-DESC;FMTTYPE=text/html:Celebrate the end of summer with this beautiful 5K in picturesque Venetian Gardens on the Southern Shore of Lake Harris. This is a kick-off event for the Leesburg Partnership&#39\;s End of Summer Splash Festival.
LOCATION:Ski Beach\, Venetian Gardens\, 305 Lake Shore Dr Leesburg\, FL US 34748
UID:e.3152.4149
SEQUENCE:3
DTSTAMP:20260421T220728Z
URL:https://members.southlakechamber-fl.com/events/details/end-of-summer-splash-5k-4149
END:VEVENT

END:VCALENDAR
