BEGIN:VCALENDAR
VERSION:2.0
PRODID:-//ChamberMaster//Event Calendar 2.0//EN
METHOD:PUBLISH
X-PUBLISHED-TTL:P3D
REFRESH-INTERVAL:P3D
CALSCALE:GREGORIAN
BEGIN:VEVENT
DTSTART:20230403T123000Z
DTEND:20230403T133000Z
X-MICROSOFT-CDO-ALLDAYEVENT:FALSE
SUMMARY:Coffee with the Chamber
DESCRIPTION:Join us for Coffee with the Chamber at a local member coffee shop business. We invite you to come and enjoy an in person freshly brewed cup of coffee with local business leaders and discuss inspirational topics to jumpstart your Monday morning.
X-ALT-DESC;FMTTYPE=text/html:<span style="font-family:arial\;"><span style="font-size: 16px\; white-space: pre-wrap\; color: rgb(77\, 77\, 77)\;">Join us for&nbsp\;</span><span style="font-size: 16px\; white-space: pre-wrap\; color: rgb(239\, 117\, 34)\; font-weight: bold\;">Coffee with the Chamber</span><span style="font-size: 16px\; white-space: pre-wrap\; color: rgb(77\, 77\, 77)\;">&nbsp\;at a local member coffee shop business. We invite you to come and enjoy an in person freshly brewed cup of coffee with local business leaders and discuss inspirational topics to jumpstart your Monday morning.</span></span>
LOCATION:Lemont Coffee Lounge 821 W. Minneola Ave. Clermont\, FL 34711
UID:e.3152.4262
SEQUENCE:3
DTSTAMP:20260420T104045Z
URL:https://members.southlakechamber-fl.com/events/details/coffee-with-the-chamber-04-03-2023-4262
END:VEVENT

END:VCALENDAR
