BEGIN:VCALENDAR
VERSION:2.0
PRODID:-//ChamberMaster//Event Calendar 2.0//EN
METHOD:PUBLISH
X-PUBLISHED-TTL:P3D
REFRESH-INTERVAL:P3D
CALSCALE:GREGORIAN
BEGIN:VEVENT
DTSTART:20270329T123000Z
DTEND:20270329T133000Z
X-MICROSOFT-CDO-ALLDAYEVENT:FALSE
SUMMARY:Coffee with the Chamber
DESCRIPTION:Join us for Coffee with the Chamber at a local member coffee shop business. We invite you to come and enjoy an in person freshly brewed cup of coffee with local business leaders and discuss inspirational topics to jumpstart your Monday morning.
X-ALT-DESC;FMTTYPE=text/html:<span style="font-family: arial\; white-space-collapse: preserve\; background-color: rgb(255\, 255\, 255)\; font-size: 16px\; color: rgb(77\, 77\, 77)\;">Join us for&nbsp\;</span><span style="font-family: arial\; white-space-collapse: preserve\; background-color: rgb(255\, 255\, 255)\; font-size: 16px\; color: rgb(239\, 117\, 34)\; font-weight: bold\;">Coffee with the Chamber</span><span style="font-family: arial\; white-space-collapse: preserve\; background-color: rgb(255\, 255\, 255)\; font-size: 16px\; color: rgb(77\, 77\, 77)\;">&nbsp\;at a local member coffee shop business. We invite you to come and enjoy an in person freshly brewed cup of coffee with local business leaders and discuss inspirational topics to jumpstart your Monday morning.</span>
LOCATION:Florida Blue Center Clermont 2601 US Highway 27 Clermont\, FL 34711
UID:e.3152.6140
SEQUENCE:3
DTSTAMP:20260420T064045Z
URL:https://members.southlakechamber-fl.com/events/details/coffee-with-the-chamber-03-29-2027-6140
END:VEVENT

END:VCALENDAR
