BEGIN:VCALENDAR
VERSION:2.0
PRODID:-//ChamberMaster//Event Calendar 2.0//EN
METHOD:PUBLISH
X-PUBLISHED-TTL:P3D
REFRESH-INTERVAL:P3D
CALSCALE:GREGORIAN
BEGIN:VEVENT
DTSTART:20261120T121500Z
DTEND:20261120T133000Z
X-MICROSOFT-CDO-ALLDAYEVENT:FALSE
SUMMARY:Chamber Breakfast
DESCRIPTION:Seats are limited\, so click the button below to register today!
X-ALT-DESC;FMTTYPE=text/html:<span style="color: rgb(55\, 65\, 81)\; font-family: &quot\;Open Sans&quot\;\, sans-serif\; font-size: 16px\;">Seats are limited\, so click the button below to register today!</span>
LOCATION:Clermont City Center 620 W. Montrose St. Clermont\, FL 34711
UID:e.3152.5873
SEQUENCE:3
DTSTAMP:20260420T000051Z
URL:https://members.southlakechamber-fl.com/events/details/chamber-breakfast-11-20-2026-5873
END:VEVENT

END:VCALENDAR
