BEGIN:VCALENDAR
VERSION:2.0
PRODID:-//ChamberMaster//Event Calendar 2.0//EN
METHOD:PUBLISH
X-PUBLISHED-TTL:P3D
REFRESH-INTERVAL:P3D
CALSCALE:GREGORIAN
BEGIN:VEVENT
DTSTART:20260515T111500Z
DTEND:20260515T123000Z
X-MICROSOFT-CDO-ALLDAYEVENT:FALSE
SUMMARY:Chamber Breakfast
DESCRIPTION:Seats are limited\, so click the button below to register today!
X-ALT-DESC;FMTTYPE=text/html:<span style="color: rgb(55\, 65\, 81)\; font-family: &quot\;Open Sans&quot\;\, sans-serif\; font-size: 16px\;">Seats are limited\, so click the button below to register today!</span>
LOCATION:Clermont City Center 620 W. Montrose St. Clermont\, FL 34711
UID:e.3152.5867
SEQUENCE:3
DTSTAMP:20260419T151612Z
URL:https://members.southlakechamber-fl.com/events/details/chamber-breakfast-05-15-2026-5867
END:VEVENT

END:VCALENDAR
