BEGIN:VCALENDAR
VERSION:2.0
PRODID:-//ChamberMaster//Event Calendar 2.0//EN
METHOD:PUBLISH
X-PUBLISHED-TTL:P3D
REFRESH-INTERVAL:P3D
CALSCALE:GREGORIAN
BEGIN:VEVENT
DTSTART:20261203T220000Z
DTEND:20261204T000000Z
X-MICROSOFT-CDO-ALLDAYEVENT:FALSE
SUMMARY:Business After Hours
DESCRIPTION:Come and network with other members in a casual atmosphere. Be sure to bring your business cards\, cash for the 50/50 raffle that raises money for scholarships\, and expect to have a good time with lots of door prizes.
X-ALT-DESC;FMTTYPE=text/html:<span style="color: rgb(68\, 68\, 68)\; font-family: Arial\, Helvetica\, sans-serif\; font-size: 14px\;">Come and network with other members in a casual atmosphere. Be sure to bring your business cards\, cash for the 50/50 raffle that raises money for scholarships\, and expect to have a good time with lots of door prizes.</span>\n<div>\n<p>&nbsp\;</p>\n</div>\n
LOCATION:Wheatley Realty & Florida Summit Mortgage 141 N. Hwy. 27 Clermont\, FL 34711
UID:e.3152.6565
SEQUENCE:3
DTSTAMP:20260420T013121Z
URL:https://members.southlakechamber-fl.com/events/details/business-after-hours-6565
END:VEVENT

END:VCALENDAR
