BEGIN:VCALENDAR
VERSION:2.0
PRODID:-//ChamberMaster//Event Calendar 2.0//EN
METHOD:PUBLISH
X-PUBLISHED-TTL:P3D
REFRESH-INTERVAL:P3D
CALSCALE:GREGORIAN
BEGIN:VEVENT
DTSTART:20261030T120000Z
DTEND:20261030T130000Z
X-MICROSOFT-CDO-ALLDAYEVENT:FALSE
SUMMARY:Business Accelerator Series
DESCRIPTION:Business Accelerator Series-\n\nEvery month we will explore topics on how small businesses can accelerate their growth through conversations with industry experts.
X-ALT-DESC;FMTTYPE=text/html:Business Accelerator Series-<br />\nEvery month we will explore topics on how small businesses can accelerate their growth through conversations with industry experts.
LOCATION:Clermont City Center 620 W. Montrose St. Clermont\, FL 34711
UID:e.3152.6455
SEQUENCE:3
DTSTAMP:20260419T235907Z
URL:https://members.southlakechamber-fl.com/events/details/business-accelerator-series-6455
END:VEVENT

END:VCALENDAR
