BEGIN:VCALENDAR
VERSION:2.0
PRODID:-//ChamberMaster//Event Calendar 2.0//EN
METHOD:PUBLISH
X-PUBLISHED-TTL:P3D
REFRESH-INTERVAL:P3D
CALSCALE:GREGORIAN
BEGIN:VEVENT
DTSTART:20260925T120000Z
DTEND:20260925T130000Z
X-MICROSOFT-CDO-ALLDAYEVENT:FALSE
SUMMARY:Business Accelerator Series
DESCRIPTION:Business Accelerator Series-\n\nEvery month we will explore topics on how small businesses can accelerate their growth through conversations with industry experts.
X-ALT-DESC;FMTTYPE=text/html:<strong style="font-family: arial\; font-size: 14px\;">Business Accelerator Series-</strong><br style="font-family: arial\; font-size: 14px\;" />\n<span style="font-family: arial\; font-size: 14px\;">Every month we will explore topics on how small businesses can accelerate their growth through conversations with industry experts.</span>
LOCATION:Clermont City Center 620 W. Montrose St. Clermont\, FL 34711
UID:e.3152.6454
SEQUENCE:3
DTSTAMP:20260419T221602Z
URL:https://members.southlakechamber-fl.com/events/details/business-accelerator-series-6454
END:VEVENT

END:VCALENDAR
