BEGIN:VCALENDAR
VERSION:2.0
PRODID:-//ChamberMaster//Event Calendar 2.0//EN
METHOD:PUBLISH
X-PUBLISHED-TTL:P3D
REFRESH-INTERVAL:P3D
CALSCALE:GREGORIAN
BEGIN:VEVENT
DTSTART:20210416T111500Z
DTEND:20210416T123000Z
X-MICROSOFT-CDO-ALLDAYEVENT:FALSE
SUMMARY:April Chamber Breakfast
DESCRIPTION:Covering a range of programs\, this traditional morning event is your opportunity to connect with members and guests\, get engaged with the community and hear from influential speakers from across the region. \n\n\n\nOur speaker this month is Adam Miller\, COO of the Coastal Conservation Association of Florida. Adam will share updates on the CCA of Florida and what they are doing to improve the community. \n\n \nWe ask that all attendees wear a mask\, have their temperature checked and use hand sanitizer at this event. \n\n\n\nBy registering for this event you are confirming that you:\n\n\n	Do not have a fever (temperature of 100 F or greater)\n	Have not been in contact with anyone who has tested positive for COVID-19 in the past 14 days\n	Do not have symptoms including: shortness of breath\, loss of smell or taste\, headaches or chills\n\nThis event is limited to 70 attendees.
X-ALT-DESC;FMTTYPE=text/html:<span style="font-family:arial\;"><span style="font-size:14px\;">Covering a range of programs\, this traditional morning event is your opportunity to connect with members and guests\, get engaged with the community and hear from influential speakers from across the region.&nbsp\;</span></span><br />\n<br />\nOur speaker this month is Adam Miller\, COO of the Coastal Conservation Association of Florida. Adam will share updates on the CCA of Florida and what they are doing to improve the community.&nbsp\;<br />\n&nbsp\;\n<p style="box-sizing: border-box\; margin: 0px 0px 1rem\; color: rgb(68\, 68\, 68)\; font-family: Arial\, Helvetica\, sans-serif\; font-size: 16px\;"><span style="font-family:arial\;"><span style="font-size:14px\;">We ask that all attendees wear a mask\, have their temperature checked and use hand sanitizer at this event.&nbsp\;<br style="box-sizing: border-box\;" />\n<br style="box-sizing: border-box\;" />\nBy registering for this event you are confirming that you:</span></span></p>\n\n<ul style="padding-right: 0px\; padding-left: 0px\; box-sizing: border-box\; list-style-position: initial\; list-style-image: initial\; margin: 0px 0px 1rem 2.5rem\; outline: 0px\; color: rgb(68\, 68\, 68)\; font-family: Arial\, Helvetica\, sans-serif\; font-size: 16px\;">\n	<li style="box-sizing: border-box\; margin: 0px\;"><span style="font-family:arial\;"><span style="font-size:14px\;">Do not have a fever (temperature of 100 F or greater)</span></span></li>\n	<li style="box-sizing: border-box\; margin: 0px\;"><span style="font-family:arial\;"><span style="font-size:14px\;">Have not been in contact with anyone who has tested positive for COVID-19 in the past 14 days</span></span></li>\n	<li style="box-sizing: border-box\; margin: 0px\; outline: 0px\;"><span style="font-family:arial\;"><span style="font-size:14px\;">Do not have symptoms including: shortness of breath\, loss of smell or taste\, headaches or chills</span></span></li>\n</ul>\n<span style="font-size:14px\;"><span style="font-family:arial\;">This event is limited to 70 attendees.</span></span>
LOCATION:Sonny's BBQ 1500 E. Hwy 50 Clermont\, FL 34711
UID:e.3152.3712
SEQUENCE:3
DTSTAMP:20260425T111422Z
URL:https://members.southlakechamber-fl.com/events/details/april-chamber-breakfast-3712
END:VEVENT

END:VCALENDAR
