BEGIN:VCALENDAR
VERSION:2.0
PRODID:-//ChamberMaster//Event Calendar 2.0//EN
METHOD:PUBLISH
X-PUBLISHED-TTL:P3D
REFRESH-INTERVAL:P3D
CALSCALE:GREGORIAN
BEGIN:VEVENT
DTSTART:20261204T130000Z
DTEND:20261204T180000Z
X-MICROSOFT-CDO-ALLDAYEVENT:FALSE
SUMMARY:8th Annual South Lake Chamber Golf Tournament
DESCRIPTION:The 8th Annual South Lake Chamber of Commerce Golf Tournament is just around the corner! We are excited to see all of the skilled golfers come out and compete.\n\n \n\nWhether you're a seasoned pro or a beginner\, you can participate in this tournament as an individual or a foursome. Not an avid golfer? That's okay! You can still show your support by sponsoring a hole or donating a prize for the raffle.\n\n \n\nThis tournament is an excellent opportunity to network with other business professionals in the area while enjoying a fun-filled day on the golf course.\n\n \n\nDon't miss out on this exciting event! You can find the application below. We can't wait to see you there!\n\n \nFor sponsorship opportunities\, please email rsvp@southlakechamber-fl.com
X-ALT-DESC;FMTTYPE=text/html:<div style="color: rgb(46\, 47\, 47)\; font-family: Roboto\, sans-serif\; font-size: 16px\; white-space-collapse: preserve\;"><span style="font-size:16px\;"><span style="font-family:arial\;">The 8th Annual South Lake Chamber of Commerce Golf Tournament is just around the corner! We are excited to see all of the skilled golfers come out and compete.</span></span></div>\n\n<div style="color: rgb(46\, 47\, 47)\; font-family: Roboto\, sans-serif\; font-size: 16px\; white-space-collapse: preserve\;">&nbsp\;</div>\n\n<div style="color: rgb(46\, 47\, 47)\; font-family: Roboto\, sans-serif\; font-size: 16px\; white-space-collapse: preserve\;"><span style="font-size:16px\;"><span style="font-family:arial\;">Whether you&#39\;re a seasoned pro or a beginner\, you can participate in this tournament as an individual or a foursome. Not an avid golfer? That&#39\;s okay! You can still show your support by sponsoring a hole or donating a prize for the raffle.</span></span></div>\n\n<div style="color: rgb(46\, 47\, 47)\; font-family: Roboto\, sans-serif\; font-size: 16px\; white-space-collapse: preserve\;">&nbsp\;</div>\n\n<div style="color: rgb(46\, 47\, 47)\; font-family: Roboto\, sans-serif\; font-size: 16px\; white-space-collapse: preserve\;"><span style="font-size:16px\;"><span style="font-family:arial\;">This tournament is an excellent opportunity to network with other business professionals in the area while enjoying a fun-filled day on the golf course.</span></span></div>\n\n<div style="color: rgb(46\, 47\, 47)\; font-family: Roboto\, sans-serif\; font-size: 16px\; white-space-collapse: preserve\;">&nbsp\;</div>\n\n<div style="color: rgb(46\, 47\, 47)\; font-family: Roboto\, sans-serif\; font-size: 16px\; white-space-collapse: preserve\;"><span style="font-size:16px\;"><span style="font-family:arial\;">Don&#39\;t miss out on this exciting event! You can find the application below. We can&#39\;t wait to see you there!</span></span><br />\n&nbsp\;</div>\n<span style="font-size:16px\;"><span style="font-family:arial\;">For sponsorship opportunities\, please email&nbsp\;rsvp@southlakechamber-fl.com</span></span><br />\n&nbsp\;
LOCATION:The Course at Clermont National 2601 Clermont National Drive\, Clermont\, FL 34711
UID:e.3152.5480
SEQUENCE:3
DTSTAMP:20260425T032234Z
URL:https://members.southlakechamber-fl.com/events/details/8th-annual-south-lake-chamber-golf-tournament-5480
END:VEVENT

END:VCALENDAR
