BEGIN:VCALENDAR
VERSION:2.0
PRODID:-//ChamberMaster//Event Calendar 2.0//EN
METHOD:PUBLISH
X-PUBLISHED-TTL:P3D
REFRESH-INTERVAL:P3D
CALSCALE:GREGORIAN
BEGIN:VEVENT
DTSTART:20260803T110000Z
DTEND:20260803T123000Z
X-MICROSOFT-CDO-ALLDAYEVENT:FALSE
SUMMARY:2026 Teacher Appreciation Breakfast - Middle School\, High School\, and Private School Teachers
DESCRIPTION:The Teacher Appreciation Breakfast thanks South Lake's teachers for all they do. Over 1\,600 teachers will attend this exciting event\, which includes a breakfast buffet and a program with a spirit award\, great raffle prizes\, and goodie bags for each teacher.\n\n\n\nThree lucky schools will also win a gift card to Office Depot each day! South Lake's High School\, Middle School\, and Private School Teachers will be honored on August 3rd\, and South Lake's elementary school and K-8 teachers will be honored on August 4th.\n\nRegister as a Sponsor through the online portal by clicking Register Now below.
X-ALT-DESC;FMTTYPE=text/html:<p><span background-color:="" font-size:="" segoe="" ui="">The Teacher Appreciation Breakfast thanks South Lake&rsquo\;s teachers for all they do. </span>Over 1\,600 teachers will attend this exciting event\, which includes a breakfast buffet and a program with<span background-color:="" font-size:="" segoe="" ui=""> a spirit award\, great raffle prizes\, and goodie bags for each teacher.<br />\n<br />\nThree lucky schools&nbsp\;</span>will also win a gift card to Office Depot&nbsp\;each day<span background-color:="" font-size:="" segoe="" ui="">! South Lake&#39\;s High School\, Middle School\, and Private School Teachers will be honored on August 3rd\, and South Lake&#39\;s elementary school and K-8 teachers will be honored on August 4th.</span></p>\n\n<p><strong>Register as a Sponsor through the online portal by clicking Register Now below.&nbsp\;</strong></p>\n
LOCATION:Wesley Center at Living Hope Church 715 W. Juniata Street\, Clermont\, FL 34711
UID:e.3152.5440
SEQUENCE:3
DTSTAMP:20260419T204832Z
URL:https://members.southlakechamber-fl.com/events/details/2026-teacher-appreciation-breakfast-middle-school-high-school-and-private-school-teachers-5440
END:VEVENT

END:VCALENDAR
