BEGIN:VCALENDAR
VERSION:2.0
PRODID:-//ChamberMaster//Event Calendar 2.0//EN
METHOD:PUBLISH
X-PUBLISHED-TTL:P3D
REFRESH-INTERVAL:P3D
CALSCALE:GREGORIAN
BEGIN:VEVENT
DTSTART:20260919T210000Z
DTEND:20260920T020000Z
X-MICROSOFT-CDO-ALLDAYEVENT:FALSE
SUMMARY:2026 Sips and Salsa
DESCRIPTION:Our 7th Annual event that offers the community all things SALSA!  A display of cultural cuisine through a variety of exquisite dishes along with live salsa music and dancing. Lots of activities for the whole family including dog costume contests\, Domino tournament\, kids zone\, and much more!
X-ALT-DESC;FMTTYPE=text/html:<span style="color: rgb(64\, 64\, 64)\; font-family: Museo-300\, &quot\;Helvetica Neue&quot\;\, Helvetica\, Arial\, sans-serif\; font-size: 14px\;">Our 7th Annual event that offers the community all things SALSA!&nbsp\; A display of cultural cuisine through a variety of exquisite dishes along with live salsa music and dancing. Lots of activities for the whole family including dog costume contests\, Domino tournament\, kids zone\, and much more!</span>
LOCATION:Waterfront Park 330 3rd Street Clermont
UID:e.3152.6456
SEQUENCE:3
DTSTAMP:20260419T203950Z
URL:https://members.southlakechamber-fl.com/events/details/2026-sips-and-salsa-6456
END:VEVENT

END:VCALENDAR
