BEGIN:VCALENDAR
VERSION:2.0
PRODID:-//ChamberMaster//Event Calendar 2.0//EN
METHOD:PUBLISH
X-PUBLISHED-TTL:P3D
REFRESH-INTERVAL:P3D
CALSCALE:GREGORIAN
BEGIN:VEVENT
DTSTART:20231215T121500Z
DTEND:20231215T133000Z
X-MICROSOFT-CDO-ALLDAYEVENT:FALSE
SUMMARY:2023 Chamber Breakfast
DESCRIPTION:Join us for a festive celebration at our Monthly Chamber Breakfast\, featuring special musical performances\, sponsor presentations\, and a chance to showcase your holiday spirit in our Ugly Sweater Contest. Connect with local businesses\, enjoy a delicious holiday breakfast\, and earn a chance to win festive prizes. Seats are limited\, so reserve your seats today!
X-ALT-DESC;FMTTYPE=text/html:<span style="color: rgb(55\, 65\, 81)\; font-family: &quot\;Open Sans&quot\;\, sans-serif\; font-size: 16px\; white-space-collapse: preserve\;">Join us for a festive celebration at our Monthly Chamber Breakfast\, featuring special musical performances\, sponsor presentations\, and a chance to showcase your holiday spirit in our Ugly Sweater Contest. Connect with local businesses\, enjoy a delicious holiday breakfast\, and earn a chance to win festive prizes. Seats are limited\, so reserve your seats today!</span>
LOCATION:Clermont City Center 620 W. Montrose St. Clermont\, FL 34711
UID:e.3152.4205
SEQUENCE:3
DTSTAMP:20260420T130015Z
URL:https://members.southlakechamber-fl.com/events/details/2023-chamber-breakfast-12-15-2023-4205
END:VEVENT

END:VCALENDAR
