BEGIN:VCALENDAR
VERSION:2.0
PRODID:-//ChamberMaster//Event Calendar 2.0//EN
METHOD:PUBLISH
X-PUBLISHED-TTL:P3D
REFRESH-INTERVAL:P3D
CALSCALE:GREGORIAN
BEGIN:VEVENT
DTSTART:20230421T111500Z
DTEND:20230421T123000Z
X-MICROSOFT-CDO-ALLDAYEVENT:FALSE
SUMMARY:2023 Chamber Breakfast
DESCRIPTION:Join us for our monthly Chamber Breakfast
X-ALT-DESC;FMTTYPE=text/html:Join us for our monthly Chamber Breakfast
LOCATION:E.L Puryear Building 243 S Lake Ave Groveland\, FL 34736
UID:e.3152.4197
SEQUENCE:3
DTSTAMP:20260425T000941Z
URL:https://members.southlakechamber-fl.com/events/details/2023-chamber-breakfast-04-21-2023-4197
END:VEVENT

END:VCALENDAR
