BEGIN:VCALENDAR
VERSION:2.0
PRODID:-//ChamberMaster//Event Calendar 2.0//EN
METHOD:PUBLISH
X-PUBLISHED-TTL:P3D
REFRESH-INTERVAL:P3D
CALSCALE:GREGORIAN
BEGIN:VEVENT
DTSTART:20260428T220000Z
DTEND:20260428T233000Z
X-MICROSOFT-CDO-ALLDAYEVENT:FALSE
SUMMARY:AI After Dark: LAB\, From Prompt to Workflow - Practical AI You Can Reuse
DESCRIPTION:AI After Dark LAB: From Prompt to Workflow is a working session for business owners and professionals who want more consistent results from AI. The lab focuses on turning one-off prompts into repeatable workflows by breaking everyday tasks into clear steps and improving results through iteration. Participants will work directly in AI tools and see an example of how workflow software can support repeatable use once the process is clear. Laptops are required.
X-ALT-DESC;FMTTYPE=text/html:AI After Dark LAB: From Prompt to Workflow is a working session for business owners and professionals who want more consistent results from AI. The lab focuses on turning one-off prompts into repeatable workflows by breaking everyday tasks into clear steps and improving results through iteration. Participants will work directly in AI tools and see an example of how workflow software can support repeatable use once the process is clear. Laptops are required.
LOCATION:The Community Foundation of South Lake 2150 Oakley Seaver Drive Clermont\, FL 347111
UID:e.3152.6491
SEQUENCE:3
DTSTAMP:20260424T191614Z
URL:http://members.southlakechamber-fl.com/events/details/ai-after-dark-lab-from-prompt-to-workflow-practical-ai-you-can-reuse-6491
END:VEVENT

END:VCALENDAR
